BEGIN:VCALENDAR
VERSION:2.0
PRODID:-//East West Healing Solutions - ECPv6.15.20//NONSGML v1.0//EN
CALSCALE:GREGORIAN
METHOD:PUBLISH
X-WR-CALNAME:East West Healing Solutions
X-ORIGINAL-URL:https://eastwesthealingsolutions.com
X-WR-CALDESC:Events for East West Healing Solutions
REFRESH-INTERVAL;VALUE=DURATION:PT1H
X-Robots-Tag:noindex
X-PUBLISHED-TTL:PT1H
BEGIN:VTIMEZONE
TZID:UTC
BEGIN:STANDARD
TZOFFSETFROM:+0000
TZOFFSETTO:+0000
TZNAME:UTC
DTSTART:20180101T000000
END:STANDARD
END:VTIMEZONE
BEGIN:VEVENT
DTSTART;TZID=UTC:20190213T180000
DTEND;TZID=UTC:20190213T190000
DTSTAMP:20260421T132522
CREATED:20190423T165048Z
LAST-MODIFIED:20190423T170503Z
UID:7048-1550080800-1550084400@eastwesthealingsolutions.com
SUMMARY:Allergies
DESCRIPTION:
URL:https://eastwesthealingsolutions.com/event/allergies/
LOCATION:34876 US Highway 19\, North Palm Harbor\, FL 34684
CATEGORIES:wellness-wednesday-events
END:VEVENT
END:VCALENDAR